BEGIN:VCALENDAR
VERSION:2.0
PRODID:-//wp-events-plugin.com//7.2.3.1//EN
TZID:America/New_York
X-WR-TIMEZONE:America/New_York
BEGIN:VEVENT
UID:401@chaimitzvah.org
DTSTART;TZID=America/New_York:20251023T190000
DTEND;TZID=America/New_York:20251023T200000
DTSTAMP:20250929T205247Z
URL:https://www.chaimitzvah.org/events/scholars-united-strategies-and-acti
 ons-to-combat-antisemitism-in-schools/
SUMMARY:Scholars United: Strategies and Actions to Combat Antisemitism in S
 chools
DESCRIPTION:The 2025 11th Annual ISGAP-Oxford Summer Institute for Curricul
 um Development in Critical Contemporary Antisemitism Studies brought 100+ 
 scholars together from a range of academic fields to study antisemitism an
 d develop this topic as a new discipline in Higher Education. Traveling fr
 om many countries worldwide\, participants attended numerous discussion-or
 iented lectures and then presented their newly designed syllabi and projec
 ts about combating antisemitism\, a form of hate that begins with Jewish p
 eople\, but knows no boundaries and never ends with Jewish people. The int
 ensive 12 days at St. Catherine's College\, Oxford\, were productive on ev
 ery level:  intellectually riveting scholarship\, impassioned discussions
 \, and new and deepened friendships in the growing network. This lecture f
 eatures highlights from the ISGAP-Oxford Summer Institute\, an annual prog
 ram through the Institute for the Study of Global Antisemitism and Policy.
 \nRegister Here\nDr. Marcy Braverman Goldstein is Director of Academic Eng
 agement at The Institute for the Study of Global Antisemitism and Policy (
 ISGAP).  Her doctoral research was in Religious Studies at the University
  of California\, Santa Barbara\, and focused on Hindu traditions in India 
 and America. For twenty years\, she has taught world religions at UNC Char
 lotte\, UC Riverside\, American Jewish University\, and Davidson College. 
 In addition to her role at ISGAP\, she is the Founder of Sanskrit Revoluti
 on\, through which she teaches the language of yoga and the history of rel
 igions at yoga schools nationwide. Marcy is committed to deepening people
 ’s knowledge\, sharpening critical thinking\, and inspiring personal gro
 wth to foster constructive public discourse and a strengthened civil socie
 ty.
ATTACH;FMTTYPE=image/jpeg:https://www.chaimitzvah.org/wp-content/uploads/2
 025/09/banner-Marcy-v2.png
CATEGORIES:Scholars Circle
END:VEVENT
BEGIN:VTIMEZONE
TZID:America/New_York
X-LIC-LOCATION:America/New_York
BEGIN:DAYLIGHT
DTSTART:20250309T030000
TZOFFSETFROM:-0500
TZOFFSETTO:-0400
TZNAME:EDT
END:DAYLIGHT
END:VTIMEZONE
END:VCALENDAR