BEGIN:VCALENDAR
VERSION:2.0
PRODID:-//wp-events-plugin.com//7.2.3.1//EN
TZID:America/New_York
X-WR-TIMEZONE:America/New_York
BEGIN:VEVENT
UID:398@chaimitzvah.org
DTSTART;TZID=America/New_York:20251016T193000
DTEND;TZID=America/New_York:20251016T203000
DTSTAMP:20250904T135350Z
URL:https://www.chaimitzvah.org/events/like-a-cedar-of-lebanon-how-to-stay
 -green-when-your-hair-is-grey/
SUMMARY:LIKE A CEDAR OF LEBANON: How to Stay Green When Your Hair is Grey
DESCRIPTION:\n\n\n\nChai Mitzvah’s new curriculum\, Like a Cedar of Leban
 on: How to Stay Green When Your Hair is Grey\, is not about aging\; it's a
 bout living a full life! Join us to discuss "a new chapter" through varied
  text sources\, from Torah to popular music.\n\n\n\n\n\n\n\nRegister Here\
 n\n
ATTACH;FMTTYPE=image/jpeg:https://www.chaimitzvah.org/wp-content/uploads/2
 025/09/Screenshot-2025-09-04-at-9.07.16-AM.png
CATEGORIES:Virtual
END:VEVENT
BEGIN:VTIMEZONE
TZID:America/New_York
X-LIC-LOCATION:America/New_York
BEGIN:DAYLIGHT
DTSTART:20250309T030000
TZOFFSETFROM:-0500
TZOFFSETTO:-0400
TZNAME:EDT
END:DAYLIGHT
END:VTIMEZONE
END:VCALENDAR