BEGIN:VCALENDAR
VERSION:2.0
PRODID:-//wp-events-plugin.com//7.2.3.1//EN
TZID:America/New_York
X-WR-TIMEZONE:America/New_York
BEGIN:VEVENT
UID:414@chaimitzvah.org
DTSTART;TZID=America/New_York:20251218T193000
DTEND;TZID=America/New_York:20251218T203000
DTSTAMP:20251218T145347Z
URL:https://www.chaimitzvah.org/events/like-a-cedar-of-lebanon-how-to-stay
 -green-when-your-hair-is-grey-3/
SUMMARY:LIKE A CEDAR OF LEBANON: How to Stay Green When Your Hair is Gray
DESCRIPTION:Join us to discuss ageism. Even the ancient sages recognized ag
 eism as a real issue. Older individuals have often been dismissed\, assumi
 ng that physical decline means mental decline. However\, we overlook the f
 act that age is relative.\nRegister Here
ATTACH;FMTTYPE=image/jpeg:https://www.chaimitzvah.org/wp-content/uploads/2
 025/11/Screenshot-2025-11-21-at-8.57.51-AM-1.png
CATEGORIES:Virtual
END:VEVENT
BEGIN:VTIMEZONE
TZID:America/New_York
X-LIC-LOCATION:America/New_York
BEGIN:STANDARD
DTSTART:20251102T010000
TZOFFSETFROM:-0400
TZOFFSETTO:-0500
TZNAME:EST
END:STANDARD
END:VTIMEZONE
END:VCALENDAR