BEGIN:VCALENDAR
VERSION:2.0
PRODID:-//wp-events-plugin.com//7.2.3.1//EN
TZID:America/New_York
X-WR-TIMEZONE:America/New_York
BEGIN:VEVENT
UID:217@chaimitzvah.org
DTSTART;TZID=America/New_York:20230424T193000
DTEND;TZID=America/New_York:20230424T203000
DTSTAMP:20230323T032750Z
URL:https://www.chaimitzvah.org/events/evening-rosh-chodesh-iyar-3/
SUMMARY:EVENING Rosh Chodesh Iyar
DESCRIPTION:Register Here\nPlease join us to celebrate and welcome the mont
 h of Iyar – a time of counting the omer – every day in this month is s
 pecial. Iyar is the month of light and radiance.
ATTACH;FMTTYPE=image/jpeg:https://www.chaimitzvah.org/wp-content/uploads/2
 023/03/Screen-Shot-2023-03-22-at-12.31.37-PM.png
END:VEVENT
BEGIN:VTIMEZONE
TZID:America/New_York
X-LIC-LOCATION:America/New_York
BEGIN:DAYLIGHT
DTSTART:20230312T030000
TZOFFSETFROM:-0500
TZOFFSETTO:-0400
TZNAME:EDT
END:DAYLIGHT
END:VTIMEZONE
END:VCALENDAR