BEGIN:VCALENDAR
VERSION:2.0
PRODID:-//wp-events-plugin.com//7.2.3.1//EN
TZID:America/New_York
X-WR-TIMEZONE:America/New_York
BEGIN:VEVENT
UID:51@chaimitzvah.org
DTSTART;TZID=America/New_York:20210208T193000
DTEND;TZID=America/New_York:20210208T203000
DTSTAMP:20210112T181952Z
URL:https://www.chaimitzvah.org/events/evening-rosh-chodesh-adar-topic-hid
 den-gems/
SUMMARY:EVENING Rosh Chodesh Adar – Topic: Hidden Gems
DESCRIPTION:Register Here\nIn a time when masks are critical to our surviva
 l\, we will explore the different facets of what is hidden and what is vis
 ible. Come and join a thought-provoking discussion and share the joy of Pu
 rim as we welcome the month of Adar.
ATTACH;FMTTYPE=image/jpeg:https://www.chaimitzvah.org/wp-content/uploads/2
 021/01/calendar-1.png
END:VEVENT
BEGIN:VTIMEZONE
TZID:America/New_York
X-LIC-LOCATION:America/New_York
BEGIN:STANDARD
DTSTART:20201101T010000
TZOFFSETFROM:-0400
TZOFFSETTO:-0500
TZNAME:EST
END:STANDARD
END:VTIMEZONE
END:VCALENDAR