BEGIN:VCALENDAR
VERSION:2.0
PRODID:-//wp-events-plugin.com//7.2.3.1//EN
TZID:America/New_York
X-WR-TIMEZONE:America/New_York
BEGIN:VEVENT
UID:203@chaimitzvah.org
DTSTART;TZID=America/New_York:20230221T120000
DTEND;TZID=America/New_York:20230221T130000
DTSTAMP:20230126T143109Z
URL:https://www.chaimitzvah.org/events/daytime-rosh-chodesh-adar-2/
SUMMARY:DAYTIME Rosh Chodesh Adar
DESCRIPTION:Register Here\nJoin us as we welcome the month of Adar\, a time
  of increasing strength and joy\, and a time of Miracles.
ATTACH;FMTTYPE=image/jpeg:https://www.chaimitzvah.org/wp-content/uploads/2
 023/01/Adar.png
END:VEVENT
BEGIN:VTIMEZONE
TZID:America/New_York
X-LIC-LOCATION:America/New_York
BEGIN:STANDARD
DTSTART:20221106T010000
TZOFFSETFROM:-0400
TZOFFSETTO:-0500
TZNAME:EST
END:STANDARD
END:VTIMEZONE
END:VCALENDAR