BEGIN:VCALENDAR
VERSION:2.0
PRODID:-//wp-events-plugin.com//7.2.3.1//EN
TZID:America/New_York
X-WR-TIMEZONE:America/New_York
BEGIN:VEVENT
UID:451@chaimitzvah.org
DTSTART;TZID=America/New_York:20260514T193000
DTEND;TZID=America/New_York:20260514T203000
DTSTAMP:20260417T171359Z
URL:https://www.chaimitzvah.org/events/critical-conversations-can-science-
 and-god-coexist/
SUMMARY:Critical Conversations: Can Science and God Coexist?
DESCRIPTION:Science engages in the empirical study of how nature works thro
 ugh demonstrable truths about the nature of reality. Religion is concerned
  with the why of creation and the meaning of life. We will explore whether
  knowing about nature can bring us closer to God.\nRegister Here
ATTACH;FMTTYPE=image/jpeg:https://www.chaimitzvah.org/wp-content/uploads/2
 026/04/Screenshot-2026-04-17-at-1.12.06-PM.png
CATEGORIES:Virtual
END:VEVENT
BEGIN:VTIMEZONE
TZID:America/New_York
X-LIC-LOCATION:America/New_York
BEGIN:DAYLIGHT
DTSTART:20260308T030000
TZOFFSETFROM:-0500
TZOFFSETTO:-0400
TZNAME:EDT
END:DAYLIGHT
END:VTIMEZONE
END:VCALENDAR